BEGIN:VCALENDAR
VERSION:2.0
PRODID:-//Access Events//accessevents.org//
BEGIN:VEVENT
SUMMARY:Blind Fencing
DTSTART;TZID=America/Los_Angeles:20260501T103000
DTSTAMP:20260423T182301Z
UID:blind-fencing-20260501@accessevents.org
SEQUENCE:0
DESCRIPTION:Introduction to blind fencing with coaches from SF Fencing Aca
 demy. Participants learn stance\, footwork\, orientation\, and blade work 
 in this adaptive fencing program for blind and low-vision adults.\n\nAcces
 sibility: Wheelchair Accessible Venue
LAST-MODIFIED:20260423T182301Z
LOCATION:LightHouse for the Blind and Visually Impaired\, 10th Floor\, 115
 5 Market Street\, San Francisco\, CA
STATUS:CONFIRMED
URL:https://accessevents.org/events/blind-fencing-20260501/
END:VEVENT
END:VCALENDAR
