BEGIN:VCALENDAR
VERSION:2.0
PRODID:-//Access Events//accessevents.org//
BEGIN:VEVENT
SUMMARY:Bexar Deaf Club Monthly Meeting
DTSTART;TZID=America/Chicago:20260611T170000
DTSTAMP:20260423T182316Z
UID:bexar-deaf-club-monthly-meeting-20260611@accessevents.org
SEQUENCE:0
DESCRIPTION:TPR's community calendar lists Bexar Deaf Club 2026 as a secon
 d-Thursday social hour with a presentation\, social time\, and ASL informa
 tion displays. The listing says the club meets at the Bexar County Small B
 usiness Opportunity Center from 5 to 8 p.m.
LAST-MODIFIED:20260423T182316Z
LOCATION:Bexar County Small Business Opportunity Center\, 8200 Perrin Beit
 el Suite 117\, San Antonio\, TX 78218-1550
STATUS:CONFIRMED
URL:https://accessevents.org/events/bexar-deaf-club-monthly-meeting-202606
 11/
END:VEVENT
END:VCALENDAR
