BEGIN:VCALENDAR
VERSION:2.0
PRODID:-//Access Events//accessevents.org//
BEGIN:VEVENT
SUMMARY:Beginner Adapted Kayaking - May 2nd
DTSTART;TZID=America/New_York:20260502T090000
DTEND;TZID=America/New_York:20260502T120000
DTSTAMP:20260425T063507Z
UID:beginner-adapted-kayaking-may-2nd-20260502@accessevents.org
SEQUENCE:0
DESCRIPTION:Adapted Kayaking for People with a Physical Disability\nAges 1
 0 & Up\n\nAccessibility: Wheelchair Accessible Venue\n\nContact: wes@ncada
 ptedsports.org
LAST-MODIFIED:20260425T063507Z
LOCATION:Bond Park Community Park\, 197 Bond Park Dr\, Cary\, NC 27513
STATUS:CONFIRMED
URL:https://accessevents.org/events/beginner-adapted-kayaking-may-2nd-2026
 0502/
END:VEVENT
END:VCALENDAR
