BEGIN:VCALENDAR
VERSION:2.0
PRODID:-//Access Events//accessevents.org//
BEGIN:VEVENT
SUMMARY:AI for Visual Disabilities
DTSTART;TZID=America/Chicago:20260528T103000
DTEND;TZID=America/Chicago:20260528T120000
DTSTAMP:20260425T063454Z
UID:ai-for-visual-disabilities-20260528@accessevents.org
SEQUENCE:0
DESCRIPTION:AI can help those experiencing loss of vision to experience en
 hanced independence with everyday life and tasks such as reading text\, aw
 areness of objects and surroundings\, remembering things\, and writing mes
 sages.\n\nAccessibility: Wheelchair Accessible Venue
LAST-MODIFIED:20260425T063454Z
LOCATION:Harold Washington Library Center\, 400 S. State Street\, Chicago\
 , IL 60605
STATUS:CONFIRMED
URL:https://accessevents.org/events/ai-for-visual-disabilities-20260528/
END:VEVENT
END:VCALENDAR
