BEGIN:VCALENDAR
VERSION:2.0
PRODID:-//Access Events//accessevents.org//
BEGIN:VEVENT
SUMMARY:Adult Support Meeting
DTSTART;TZID=America/Los_Angeles:20260511T180000
DTEND;TZID=America/Los_Angeles:20260511T200000
DTSTAMP:20260425T063458Z
UID:adult-support-meeting-20260511@accessevents.org
SEQUENCE:0
DESCRIPTION:Adult Support Meeting\n\nAccessibility: Remote / Virtual Atten
 dance Option\n\nContact: info@featsonv.org
LAST-MODIFIED:20260425T063458Z
STATUS:CONFIRMED
URL:https://accessevents.org/events/adult-support-meeting-20260511/
END:VEVENT
END:VCALENDAR
