BEGIN:VCALENDAR
VERSION:2.0
PRODID:-//Access Events//accessevents.org//
BEGIN:VEVENT
SUMMARY:Achilles Washington\, D.C. Saturday Run/Walk and Adaptive Cycling
DTSTART;TZID=America/New_York:20260620T083000
DTSTAMP:20260425T063511Z
UID:achilles-washington-dc-saturday-runwalk-and-adaptive-cycling-20260620@
 accessevents.org
SEQUENCE:0
DESCRIPTION:Weekly Saturday Achilles Washington\, D.C. workout combining r
 un\, walk\, and adaptive cycling options for athletes with disabilities an
 d guides. The chapter page states that adaptive bikes are available throug
 h Capital Bikeshare support.\n\nContact: admin.dmv@achillesinternational.o
 rg
LAST-MODIFIED:20260425T063511Z
LOCATION:Starbucks\, 325 7th St NW\, Washington\, DC 20004
STATUS:CONFIRMED
URL:https://accessevents.org/events/achilles-washington-dc-saturday-runwal
 k-and-adaptive-cycling-20260620/
END:VEVENT
END:VCALENDAR
