BEGIN:VCALENDAR
VERSION:2.0
PRODID:-//Access Events//accessevents.org//
BEGIN:VEVENT
SUMMARY:Achilles Houston Thursday Ambulatory Workout
DTSTART;TZID=America/Chicago:20260618T183000
DTSTAMP:20260423T182316Z
UID:achilles-houston-thursday-ambulatory-workout-20260618@accessevents.org
SEQUENCE:0
DESCRIPTION:Weekly Achilles Houston ambulatory workout for athletes with d
 isabilities and volunteer guides. The chapter page lists Thursday workouts
  at 6:30 PM at 1500 Hermann Drive.
LAST-MODIFIED:20260423T182316Z
LOCATION:Hermann Park\, 1500 Hermann Drive\, Houston\, TX 77004
STATUS:CONFIRMED
URL:https://accessevents.org/events/achilles-houston-thursday-ambulatory-w
 orkout-20260618/
END:VEVENT
END:VCALENDAR
