BEGIN:VCALENDAR
VERSION:2.0
PRODID:-//Access Events//accessevents.org//
BEGIN:VEVENT
SUMMARY:4/29/26 Virtual Connection Recovery Support Group
DTSTART;TZID=America/Chicago:20260429T190000
DTEND;TZID=America/Chicago:20260429T203000
DTSTAMP:20260425T063445Z
UID:42926-virtual-connection-recovery-support-group-20260429@accessevents.
 org
SEQUENCE:0
DESCRIPTION:By sharing your experiences in a safe and confidential setting
 \, you can gain hope and feel a sense of connection. This support group en
 courages empathy\, productive discussion and a sense of community. You'll 
 benefit from hearing about other's experiences\, discover your inner stren
 gth\, and empower yourself by sharing your own experiences in a non-judgme
 ntal space.\n\nAccessibility: Remote / Virtual Attendance Option
LAST-MODIFIED:20260425T063445Z
STATUS:CONFIRMED
URL:https://accessevents.org/events/42926-virtual-connection-recovery-supp
 ort-group-20260429/
END:VEVENT
END:VCALENDAR
